BEGIN:VCALENDAR
VERSION:2.0
PRODID:-//eventon.com NONSGML v1.0//EN
CALSCALE:GREGORIAN
METHOD:PUBLISH
BEGIN:VEVENT
UID:69e53d35767b2
DTSTAMP:20260419T203813Z
DTSTART:20240407T180000Z
DTEND:20240407T203000Z
LOCATION:Four Seasons Centre for the Performing Arts 145 Queen St. West\,  Toronto ON
SUMMARY:CCAA at Shen Yun - ( Toronto )
DESCRIPTION:Embark on an extraordinary journey with Shen Yun 2024\,  where 
 timeless tales and breathtaking performances converge to transcend cultural
  boundaries. Dive into years of Chinese civilization through classical danc
 e\,  dazzling costumes\,  and animated backdrops\,  revealing the rich tape
 stry of China&#8217;s diverse regions. Experience divine inspiration as anc
 ient legends come to[..]\nhttps://ccaa.life/events/ccaa-at-shen-yun-toronto
 /
URL:https://ccaa.life/events/ccaa-at-shen-yun-toronto/
END:VEVENT
END:VCALENDAR