BEGIN:VCALENDAR
VERSION:2.0
PRODID:-//eventon.com NONSGML v1.0//EN
CALSCALE:GREGORIAN
METHOD:PUBLISH
BEGIN:VEVENT
UID:69e5805bd48a1
DTSTAMP:20260420T012443Z
DTSTART:20250225T190000Z
DTEND:20250225T220000Z
LOCATION:
SUMMARY:CCAA and CCSAI Go to the Toronto Raptors: Raptors vs Celtics
DESCRIPTION:Your Alumni Association (Centennial College Alumni Association)
  and Student Association (Centennial College Student Association) are going
  to the Toronto Raptors onTuesday\,  February 25! Join us for this great op
 portunity to enjoy our city&#8217;s atmosphere at an NBA game and also netw
 ork with Centennial College peers and alumni during Engagement Week.[..]\nh
 ttps://ccaa.life/events/ccaa-and-ccsai-go-to-the-toronto-raptors-raptors-vs
 -celtics/
URL:https://ccaa.life/events/ccaa-and-ccsai-go-to-the-toronto-raptors-raptors-vs-celtics/
END:VEVENT
END:VCALENDAR