BEGIN:VCALENDAR
VERSION:2.0
PRODID:-//eventon.com NONSGML v1.0//EN
CALSCALE:GREGORIAN
METHOD:PUBLISH
BEGIN:VEVENT
UID:69ea3c6606130
DTSTAMP:20260423T153606Z
DTSTART:20200428T163500Z
DTEND:20200428T163500Z
LOCATION:
SUMMARY:Connect with Business Alumni – Get Inspired!
DESCRIPTION:Learn tips on virtual networking\,  industry insights during CO
 VID\,  isolation coping. This session will be held via Zoom. To register an
 d find out more information: Sign-up on https://hire.centennialcollege.ca 
 The go to Student/Alumni &gt; Events Calendar\nhttps://ccaa.life/events/con
 nect-with-business-alumni-get-inspired/
URL:https://ccaa.life/events/connect-with-business-alumni-get-inspired/
END:VEVENT
END:VCALENDAR